BEGIN:VCALENDAR
VERSION:2.0
PRODID:-//Squarespace Inc/Squarespace 6//v6//EN
BEGIN:VEVENT
UID:5d4f51c9ba218e00013080dd@squarespace.com
DTSTAMP:20190810T234448Z
DTSTART:20181125T000000Z
DTEND:20191213T010000Z
SUMMARY:ADELAIDE - Summer Sessions
GEO:-34.928499;138.600746
LOCATION:ADELAIDE\, AUSTRALIA
END:VEVENT
END:VCALENDAR
