BEGIN:VCALENDAR
VERSION:2.0
PRODID:-//Squarespace Inc/Squarespace 6//v6//EN
BEGIN:VEVENT
UID:5b0e6321352f5356913513fa@squarespace.com
DTSTAMP:20181002T224923Z
DTSTART:20180612T233000Z
DTEND:20190203T233000Z
SUMMARY:2018 CALIFORNIA BOOKINGS OPEN
GEO:33.659484;-117.998803
LOCATION:Huntington Beach\, CA
END:VEVENT
END:VCALENDAR
